BEGIN:VCALENDAR
VERSION:2.0
PRODID:-//Miracle Camp and Retreat Center - ECPv6.15.17//NONSGML v1.0//EN
CALSCALE:GREGORIAN
METHOD:PUBLISH
X-WR-CALNAME:Miracle Camp and Retreat Center
X-ORIGINAL-URL:https://www.miraclecamp.com
X-WR-CALDESC:Events for Miracle Camp and Retreat Center
REFRESH-INTERVAL;VALUE=DURATION:PT1H
X-Robots-Tag:noindex
X-PUBLISHED-TTL:PT1H
BEGIN:VTIMEZONE
TZID:America/Detroit
BEGIN:DAYLIGHT
TZOFFSETFROM:-0500
TZOFFSETTO:-0400
TZNAME:EDT
DTSTART:20240310T070000
END:DAYLIGHT
BEGIN:STANDARD
TZOFFSETFROM:-0400
TZOFFSETTO:-0500
TZNAME:EST
DTSTART:20241103T060000
END:STANDARD
BEGIN:DAYLIGHT
TZOFFSETFROM:-0500
TZOFFSETTO:-0400
TZNAME:EDT
DTSTART:20250309T070000
END:DAYLIGHT
BEGIN:STANDARD
TZOFFSETFROM:-0400
TZOFFSETTO:-0500
TZNAME:EST
DTSTART:20251102T060000
END:STANDARD
BEGIN:DAYLIGHT
TZOFFSETFROM:-0500
TZOFFSETTO:-0400
TZNAME:EDT
DTSTART:20260308T070000
END:DAYLIGHT
BEGIN:STANDARD
TZOFFSETFROM:-0400
TZOFFSETTO:-0500
TZNAME:EST
DTSTART:20261101T060000
END:STANDARD
END:VTIMEZONE
BEGIN:VEVENT
DTSTART;VALUE=DATE:20250726
DTEND;VALUE=DATE:20250727
DTSTAMP:20260421T045403
CREATED:20240417T135251Z
LAST-MODIFIED:20250312T161756Z
UID:37148-1753488000-1753574399@www.miraclecamp.com
SUMMARY:60th Anniversary Celebration
DESCRIPTION:
URL:https://www.miraclecamp.com/event/celebration-picnic/
CATEGORIES:Family Event
ATTACH;FMTTYPE=image/png:https://www.miraclecamp.com/wp-content/uploads/2025/03/Miracle-Camp-60th-Anniversary.png
END:VEVENT
END:VCALENDAR